Package: idiogram Version: 1.82.0 Command: /home/biocbuild/R/R/bin/R CMD build --keep-empty-dirs --no-resave-data idiogram StartedAt: 2025-04-01 00:15:33 -0000 (Tue, 01 Apr 2025) EndedAt: 2025-04-01 00:16:01 -0000 (Tue, 01 Apr 2025) EllapsedTime: 28.0 seconds RetCode: 0 Status: OK PackageFile: idiogram_1.82.0.tar.gz PackageFileSize: 1.791 MiB