Package: idiogram Version: 1.82.0 Command: F:\biocbuild\bbs-3.20-bioc\R\bin\R.exe CMD INSTALL idiogram StartedAt: 2025-03-31 15:56:20 -0400 (Mon, 31 Mar 2025) EndedAt: 2025-03-31 15:56:43 -0400 (Mon, 31 Mar 2025) EllapsedTime: 23.0 seconds RetCode: 0 Status: OK