Package: idiogram Version: 1.82.0 Command: /Library/Frameworks/R.framework/Resources/bin/R CMD build --keep-empty-dirs --no-resave-data idiogram StartedAt: 2025-03-31 19:26:39 -0400 (Mon, 31 Mar 2025) EndedAt: 2025-03-31 19:27:32 -0400 (Mon, 31 Mar 2025) EllapsedTime: 52.8 seconds RetCode: 0 Status: OK PackageFile: idiogram_1.82.0.tar.gz PackageFileSize: 1.795 MiB