Package: idiogram Version: 1.82.0 Command: rm -rf idiogram.buildbin-libdir && mkdir idiogram.buildbin-libdir && /Users/biocbuild/BBS/utils/build-universal.sh idiogram_1.82.0.tar.gz /Library/Frameworks/R.framework/Resources/bin/R idiogram.buildbin-libdir StartedAt: 2025-04-01 12:04:12 -0400 (Tue, 01 Apr 2025) EndedAt: 2025-04-01 12:04:48 -0400 (Tue, 01 Apr 2025) EllapsedTime: 36.4 seconds RetCode: 0 Status: OK PackageFile: idiogram_1.82.0.tgz PackageFileSize: 3.722 MiB