Package: ideal Version: 2.0.0 Command: /home/biocbuild/R/R/bin/R CMD INSTALL ideal StartedAt: 2025-03-31 21:02:01 -0000 (Mon, 31 Mar 2025) EndedAt: 2025-03-31 21:03:12 -0000 (Mon, 31 Mar 2025) EllapsedTime: 71.3 seconds RetCode: 0 Status: OK