Package: ideal Version: 2.0.0 Command: /home/biocbuild/R/R/bin/R CMD build --keep-empty-dirs --no-resave-data ideal StartedAt: 2025-04-01 00:15:24 -0000 (Tue, 01 Apr 2025) EndedAt: 2025-04-01 00:18:45 -0000 (Tue, 01 Apr 2025) EllapsedTime: 201.1 seconds RetCode: 0 Status: OK PackageFile: ideal_2.0.0.tar.gz PackageFileSize: 5.421 MiB