Package: ideal Version: 2.0.0 Command: F:\biocbuild\bbs-3.20-bioc\R\bin\R.exe CMD INSTALL ideal StartedAt: 2025-03-31 16:52:03 -0400 (Mon, 31 Mar 2025) EndedAt: 2025-03-31 16:53:13 -0400 (Mon, 31 Mar 2025) EllapsedTime: 70.4 seconds RetCode: 0 Status: OK