Package: ideal Version: 2.0.0 Command: chmod a+r ideal -R && F:\biocbuild\bbs-3.20-bioc\R\bin\R.exe CMD build --keep-empty-dirs --no-resave-data ideal StartedAt: 2025-03-31 19:36:09 -0400 (Mon, 31 Mar 2025) EndedAt: 2025-03-31 19:41:27 -0400 (Mon, 31 Mar 2025) EllapsedTime: 318.0 seconds RetCode: 0 Status: OK PackageFile: ideal_2.0.0.tar.gz PackageFileSize: 5.38 MiB