Package: ideal Version: 2.0.0 Command: /Library/Frameworks/R.framework/Resources/bin/R CMD INSTALL ideal StartedAt: 2025-03-31 16:25:37 -0400 (Mon, 31 Mar 2025) EndedAt: 2025-03-31 16:27:34 -0400 (Mon, 31 Mar 2025) EllapsedTime: 117.4 seconds RetCode: 0 Status: OK