Package: ideal Version: 2.0.0 Command: /Library/Frameworks/R.framework/Resources/bin/R CMD build --keep-empty-dirs --no-resave-data ideal StartedAt: 2025-03-31 19:26:29 -0400 (Mon, 31 Mar 2025) EndedAt: 2025-03-31 19:32:42 -0400 (Mon, 31 Mar 2025) EllapsedTime: 373.5 seconds RetCode: 0 Status: OK PackageFile: ideal_2.0.0.tar.gz PackageFileSize: 5.75 MiB