Package: ideal Version: 2.0.0 Command: rm -rf ideal.buildbin-libdir && mkdir ideal.buildbin-libdir && /Users/biocbuild/BBS/utils/build-universal.sh ideal_2.0.0.tar.gz /Library/Frameworks/R.framework/Resources/bin/R ideal.buildbin-libdir StartedAt: 2025-04-01 12:04:09 -0400 (Tue, 01 Apr 2025) EndedAt: 2025-04-01 12:06:11 -0400 (Tue, 01 Apr 2025) EllapsedTime: 121.4 seconds RetCode: 0 Status: OK PackageFile: ideal_2.0.0.tgz PackageFileSize: 5.537 MiB