Package: icetea Version: 1.24.0 Command: /Library/Frameworks/R.framework/Resources/bin/R CMD build --keep-empty-dirs --no-resave-data icetea StartedAt: 2025-04-01 01:23:58 -0400 (Tue, 01 Apr 2025) EndedAt: 2025-04-01 01:26:04 -0400 (Tue, 01 Apr 2025) EllapsedTime: 126.1 seconds RetCode: 0 Status: OK PackageFile: icetea_1.24.0.tar.gz PackageFileSize: 795.8 KiB