Package: icetea Version: 1.24.0 Command: rm -rf icetea.buildbin-libdir && mkdir icetea.buildbin-libdir && /Users/biocbuild/BBS/utils/build-universal.sh icetea_1.24.0.tar.gz /Library/Frameworks/R.framework/Resources/bin/R icetea.buildbin-libdir StartedAt: 2025-04-02 14:45:36 -0400 (Wed, 02 Apr 2025) EndedAt: 2025-04-02 14:46:39 -0400 (Wed, 02 Apr 2025) EllapsedTime: 63.0 seconds RetCode: 0 Status: OK PackageFile: icetea_1.24.0.tgz PackageFileSize: 1.11 MiB