Package: ibh Version: 1.54.0 Command: /home/biocbuild/R/R/bin/R CMD INSTALL ibh StartedAt: 2025-03-31 20:13:33 -0000 (Mon, 31 Mar 2025) EndedAt: 2025-03-31 20:13:57 -0000 (Mon, 31 Mar 2025) EllapsedTime: 23.8 seconds RetCode: 0 Status: OK