Package: ibh Version: 1.54.0 Command: /home/biocbuild/R/R/bin/R CMD build --keep-empty-dirs --no-resave-data ibh StartedAt: 2025-04-01 00:14:50 -0000 (Tue, 01 Apr 2025) EndedAt: 2025-04-01 00:14:56 -0000 (Tue, 01 Apr 2025) EllapsedTime: 6.0 seconds RetCode: 0 Status: OK PackageFile: ibh_1.54.0.tar.gz PackageFileSize: 120.6 KiB