Package: ibh Version: 1.54.0 Command: F:\biocbuild\bbs-3.20-bioc\R\bin\R.exe CMD check --no-multiarch --install=check:ibh.install-out.txt --library=F:\biocbuild\bbs-3.20-bioc\R\library --no-vignettes --timings ibh_1.54.0.tar.gz StartedAt: 2025-04-01 02:33:04 -0400 (Tue, 01 Apr 2025) EndedAt: 2025-04-01 02:33:33 -0400 (Tue, 01 Apr 2025) EllapsedTime: 29.4 seconds RetCode: 0 Status: OK CheckDir: ibh.Rcheck Warnings: 0