Package: ibh Version: 1.54.0 Command: /home/biocbuild/bbs-3.20-bioc/R/bin/R CMD INSTALL ibh StartedAt: 2025-03-31 15:10:35 -0400 (Mon, 31 Mar 2025) EndedAt: 2025-03-31 15:10:42 -0400 (Mon, 31 Mar 2025) EllapsedTime: 7.2 seconds RetCode: 0 Status: OK