Package: iasva Version: 1.24.0 Command: /home/biocbuild/R/R/bin/R CMD INSTALL iasva StartedAt: 2025-03-31 20:26:05 -0000 (Mon, 31 Mar 2025) EndedAt: 2025-03-31 20:26:29 -0000 (Mon, 31 Mar 2025) EllapsedTime: 24.2 seconds RetCode: 0 Status: OK