Package: iasva Version: 1.24.0 Command: /home/biocbuild/R/R/bin/R CMD build --keep-empty-dirs --no-resave-data iasva StartedAt: 2025-04-01 00:14:45 -0000 (Tue, 01 Apr 2025) EndedAt: 2025-04-01 00:15:54 -0000 (Tue, 01 Apr 2025) EllapsedTime: 69.0 seconds RetCode: 0 Status: OK PackageFile: iasva_1.24.0.tar.gz PackageFileSize: 924.4 KiB