Package: iasva Version: 1.24.0 Command: /Library/Frameworks/R.framework/Resources/bin/R CMD INSTALL iasva StartedAt: 2025-03-31 15:24:28 -0400 (Mon, 31 Mar 2025) EndedAt: 2025-03-31 15:25:08 -0400 (Mon, 31 Mar 2025) EllapsedTime: 40.0 seconds RetCode: 0 Status: OK