Package: iSEEu Version: 1.18.0 Command: /Library/Frameworks/R.framework/Resources/bin/R CMD check --install=check:iSEEu.install-out.txt --library=/Library/Frameworks/R.framework/Resources/library --no-vignettes --timings iSEEu_1.18.0.tar.gz StartedAt: 2025-04-01 22:48:37 -0400 (Tue, 01 Apr 2025) EndedAt: 2025-04-01 22:54:30 -0400 (Tue, 01 Apr 2025) EllapsedTime: 353.5 seconds RetCode: 0 Status: WARNINGS CheckDir: iSEEu.Rcheck Warnings: 1