Package: iSEEindex Version: 1.4.0 Command: /home/biocbuild/R/R/bin/R CMD INSTALL iSEEindex StartedAt: 2025-03-31 20:47:48 -0000 (Mon, 31 Mar 2025) EndedAt: 2025-03-31 20:48:31 -0000 (Mon, 31 Mar 2025) EllapsedTime: 42.6 seconds RetCode: 0 Status: OK