Package: iSEEindex Version: 1.4.0 Command: /Library/Frameworks/R.framework/Resources/bin/R CMD INSTALL iSEEindex StartedAt: 2025-03-31 16:00:01 -0400 (Mon, 31 Mar 2025) EndedAt: 2025-03-31 16:01:08 -0400 (Mon, 31 Mar 2025) EllapsedTime: 67.6 seconds RetCode: 0 Status: OK