Package: iSEEindex Version: 1.4.0 Command: rm -rf iSEEindex.buildbin-libdir && mkdir iSEEindex.buildbin-libdir && /Users/biocbuild/BBS/utils/build-universal.sh iSEEindex_1.4.0.tar.gz /Library/Frameworks/R.framework/Resources/bin/R iSEEindex.buildbin-libdir StartedAt: 2025-04-01 12:06:24 -0400 (Tue, 01 Apr 2025) EndedAt: 2025-04-01 12:07:36 -0400 (Tue, 01 Apr 2025) EllapsedTime: 72.0 seconds RetCode: 0 Status: OK PackageFile: iSEEindex_1.4.0.tgz PackageFileSize: 1.539 MiB