Package: iSEEindex Version: 1.4.0 Command: /Library/Frameworks/R.framework/Resources/bin/R CMD check --install=check:iSEEindex.install-out.txt --library=/Library/Frameworks/R.framework/Resources/library --no-vignettes --timings iSEEindex_1.4.0.tar.gz StartedAt: 2025-04-01 22:47:34 -0400 (Tue, 01 Apr 2025) EndedAt: 2025-04-01 22:51:57 -0400 (Tue, 01 Apr 2025) EllapsedTime: 263.4 seconds RetCode: 0 Status: OK CheckDir: iSEEindex.Rcheck Warnings: 0