Package: iSEEhub Version: 1.8.0 Command: F:\biocbuild\bbs-3.20-bioc\R\bin\R.exe CMD INSTALL iSEEhub StartedAt: 2025-03-31 16:23:47 -0400 (Mon, 31 Mar 2025) EndedAt: 2025-03-31 16:24:30 -0400 (Mon, 31 Mar 2025) EllapsedTime: 43.6 seconds RetCode: 0 Status: OK