Package: iSEEhub Version: 1.8.0 Command: chmod a+r iSEEhub -R && F:\biocbuild\bbs-3.20-bioc\R\bin\R.exe CMD build --keep-empty-dirs --no-resave-data iSEEhub StartedAt: 2025-03-31 19:44:10 -0400 (Mon, 31 Mar 2025) EndedAt: 2025-03-31 19:45:24 -0400 (Mon, 31 Mar 2025) EllapsedTime: 74.0 seconds RetCode: 0 Status: OK PackageFile: iSEEhub_1.8.0.tar.gz PackageFileSize: 6.619 MiB