Package: iSEEhex Version: 1.8.0 Command: /home/biocbuild/R/R/bin/R CMD check --install=check:iSEEhex.install-out.txt --library=/home/biocbuild/R/R/site-library --no-vignettes --timings iSEEhex_1.8.0.tar.gz StartedAt: 2025-04-01 07:38:41 -0000 (Tue, 01 Apr 2025) EndedAt: 2025-04-01 07:43:09 -0000 (Tue, 01 Apr 2025) EllapsedTime: 268.3 seconds RetCode: 0 Status: OK CheckDir: iSEEhex.Rcheck Warnings: 0