Package: iSEEhex Version: 1.8.0 Command: F:\biocbuild\bbs-3.20-bioc\R\bin\R.exe CMD INSTALL iSEEhex StartedAt: 2025-03-31 16:23:39 -0400 (Mon, 31 Mar 2025) EndedAt: 2025-03-31 16:24:19 -0400 (Mon, 31 Mar 2025) EllapsedTime: 40.6 seconds RetCode: 0 Status: OK