Package: iSEEhex Version: 1.8.0 Command: /home/biocbuild/bbs-3.20-bioc/R/bin/R CMD check --install=check:iSEEhex.install-out.txt --library=/home/biocbuild/bbs-3.20-bioc/R/site-library --timings iSEEhex_1.8.0.tar.gz StartedAt: 2025-03-31 23:14:49 -0400 (Mon, 31 Mar 2025) EndedAt: 2025-03-31 23:18:51 -0400 (Mon, 31 Mar 2025) EllapsedTime: 242.2 seconds RetCode: 0 Status: OK CheckDir: iSEEhex.Rcheck Warnings: 0