Package: iSEEhex Version: 1.8.0 Command: /Library/Frameworks/R.framework/Resources/bin/R CMD build --keep-empty-dirs --no-resave-data iSEEhex StartedAt: 2025-03-31 19:34:38 -0400 (Mon, 31 Mar 2025) EndedAt: 2025-03-31 19:36:34 -0400 (Mon, 31 Mar 2025) EllapsedTime: 116.1 seconds RetCode: 0 Status: OK PackageFile: iSEEhex_1.8.0.tar.gz PackageFileSize: 486.2 KiB