Package: iSEEhex Version: 1.8.0 Command: rm -rf iSEEhex.buildbin-libdir && mkdir iSEEhex.buildbin-libdir && /Users/biocbuild/BBS/utils/build-universal.sh iSEEhex_1.8.0.tar.gz /Library/Frameworks/R.framework/Resources/bin/R iSEEhex.buildbin-libdir StartedAt: 2025-04-01 12:06:16 -0400 (Tue, 01 Apr 2025) EndedAt: 2025-04-01 12:07:21 -0400 (Tue, 01 Apr 2025) EllapsedTime: 65.2 seconds RetCode: 0 Status: OK PackageFile: iSEEhex_1.8.0.tgz PackageFileSize: 557.5 KiB