Package: iSEEhex Version: 1.8.0 Command: /Library/Frameworks/R.framework/Resources/bin/R CMD INSTALL iSEEhex StartedAt: 2025-03-31 16:56:10 -0400 (Mon, 31 Mar 2025) EndedAt: 2025-03-31 16:56:44 -0400 (Mon, 31 Mar 2025) EllapsedTime: 34.0 seconds RetCode: 0 Status: OK