Package: iSEEhex Version: 1.8.0 Command: /Library/Frameworks/R.framework/Resources/bin/R CMD build --keep-empty-dirs --no-resave-data iSEEhex StartedAt: 2025-04-01 01:48:47 -0400 (Tue, 01 Apr 2025) EndedAt: 2025-04-01 01:49:55 -0400 (Tue, 01 Apr 2025) EllapsedTime: 68.3 seconds RetCode: 0 Status: OK PackageFile: iSEEhex_1.8.0.tar.gz PackageFileSize: 486.2 KiB