Package: iSEEfier Version: 1.2.0 Command: /home/biocbuild/R/R/bin/R CMD INSTALL iSEEfier StartedAt: 2025-03-31 20:50:38 -0000 (Mon, 31 Mar 2025) EndedAt: 2025-03-31 20:51:12 -0000 (Mon, 31 Mar 2025) EllapsedTime: 34.6 seconds RetCode: 0 Status: OK