Package: iSEEfier Version: 1.2.0 Command: /home/biocbuild/R/R/bin/R CMD build --keep-empty-dirs --no-resave-data iSEEfier StartedAt: 2025-04-01 00:21:02 -0000 (Tue, 01 Apr 2025) EndedAt: 2025-04-01 00:22:36 -0000 (Tue, 01 Apr 2025) EllapsedTime: 94.0 seconds RetCode: 0 Status: OK PackageFile: iSEEfier_1.2.0.tar.gz PackageFileSize: 442.2 KiB