Package: iSEEfier Version: 1.2.0 Command: /Library/Frameworks/R.framework/Resources/bin/R CMD build --keep-empty-dirs --no-resave-data iSEEfier StartedAt: 2025-03-31 19:34:26 -0400 (Mon, 31 Mar 2025) EndedAt: 2025-03-31 19:36:45 -0400 (Mon, 31 Mar 2025) EllapsedTime: 139.7 seconds RetCode: 0 Status: OK PackageFile: iSEEfier_1.2.0.tar.gz PackageFileSize: 491.3 KiB