Package: iSEEfier Version: 1.2.0 Command: rm -rf iSEEfier.buildbin-libdir && mkdir iSEEfier.buildbin-libdir && /Users/biocbuild/BBS/utils/build-universal.sh iSEEfier_1.2.0.tar.gz /Library/Frameworks/R.framework/Resources/bin/R iSEEfier.buildbin-libdir StartedAt: 2025-04-01 12:06:11 -0400 (Tue, 01 Apr 2025) EndedAt: 2025-04-01 12:07:12 -0400 (Tue, 01 Apr 2025) EllapsedTime: 61.1 seconds RetCode: 0 Status: OK PackageFile: iSEEfier_1.2.0.tgz PackageFileSize: 524.4 KiB