Package: iSEEfier Version: 1.2.0 Command: /Library/Frameworks/R.framework/Resources/bin/R CMD build --keep-empty-dirs --no-resave-data iSEEfier StartedAt: 2025-04-01 01:48:22 -0400 (Tue, 01 Apr 2025) EndedAt: 2025-04-01 01:49:58 -0400 (Tue, 01 Apr 2025) EllapsedTime: 95.5 seconds RetCode: 0 Status: OK PackageFile: iSEEfier_1.2.0.tar.gz PackageFileSize: 488.9 KiB