Package: iSEEde Version: 1.4.0 Command: rm -rf iSEEde.buildbin-libdir && mkdir iSEEde.buildbin-libdir && F:\biocbuild\bbs-3.20-bioc\R\bin\R.exe CMD INSTALL --build --library=iSEEde.buildbin-libdir iSEEde_1.4.0.tar.gz StartedAt: 2025-04-01 08:27:09 -0400 (Tue, 01 Apr 2025) EndedAt: 2025-04-01 08:28:06 -0400 (Tue, 01 Apr 2025) EllapsedTime: 56.5 seconds RetCode: 0 Status: OK PackageFile: iSEEde_1.4.0.zip PackageFileSize: 2.427 MiB