Package: iSEEde Version: 1.4.0 Command: /home/biocbuild/bbs-3.20-bioc/R/bin/R CMD build --keep-empty-dirs --no-resave-data --md5 iSEEde StartedAt: 2025-03-31 17:44:25 -0400 (Mon, 31 Mar 2025) EndedAt: 2025-03-31 17:46:15 -0400 (Mon, 31 Mar 2025) EllapsedTime: 109.1 seconds RetCode: 0 Status: OK PackageFile: iSEEde_1.4.0.tar.gz PackageFileSize: 3.091 MiB