Package: iSEEde Version: 1.4.0 Command: rm -rf iSEEde.buildbin-libdir && mkdir iSEEde.buildbin-libdir && /Users/biocbuild/BBS/utils/build-universal.sh iSEEde_1.4.0.tar.gz /Library/Frameworks/R.framework/Resources/bin/R iSEEde.buildbin-libdir StartedAt: 2025-04-01 12:06:07 -0400 (Tue, 01 Apr 2025) EndedAt: 2025-04-01 12:07:21 -0400 (Tue, 01 Apr 2025) EllapsedTime: 73.9 seconds RetCode: 0 Status: OK PackageFile: iSEEde_1.4.0.tgz PackageFileSize: 2.417 MiB