Package: iSEE Version: 2.18.0 Command: F:\biocbuild\bbs-3.20-bioc\R\bin\R.exe CMD INSTALL iSEE StartedAt: 2025-03-31 16:21:32 -0400 (Mon, 31 Mar 2025) EndedAt: 2025-03-31 16:23:28 -0400 (Mon, 31 Mar 2025) EllapsedTime: 115.9 seconds RetCode: 0 Status: OK