Package: iSEE Version: 2.18.0 Command: /home/biocbuild/bbs-3.20-bioc/R/bin/R CMD INSTALL iSEE StartedAt: 2025-03-31 15:38:28 -0400 (Mon, 31 Mar 2025) EndedAt: 2025-03-31 15:39:06 -0400 (Mon, 31 Mar 2025) EllapsedTime: 38.3 seconds RetCode: 0 Status: OK