Package: iSEE Version: 2.18.0 Command: /Library/Frameworks/R.framework/Resources/bin/R CMD build --keep-empty-dirs --no-resave-data iSEE StartedAt: 2025-03-31 19:34:19 -0400 (Mon, 31 Mar 2025) EndedAt: 2025-03-31 19:38:47 -0400 (Mon, 31 Mar 2025) EllapsedTime: 268.5 seconds RetCode: 0 Status: OK PackageFile: iSEE_2.18.0.tar.gz PackageFileSize: 25.6 MiB