Package: iPath Version: 1.12.0 Command: /home/biocbuild/R/R/bin/R CMD INSTALL iPath StartedAt: 2025-03-31 21:10:16 -0000 (Mon, 31 Mar 2025) EndedAt: 2025-03-31 21:10:45 -0000 (Mon, 31 Mar 2025) EllapsedTime: 28.5 seconds RetCode: 0 Status: OK