Package: iPath Version: 1.12.0 Command: /home/biocbuild/bbs-3.20-bioc/R/bin/R CMD INSTALL iPath StartedAt: 2025-03-31 16:00:13 -0400 (Mon, 31 Mar 2025) EndedAt: 2025-03-31 16:00:32 -0400 (Mon, 31 Mar 2025) EllapsedTime: 19.2 seconds RetCode: 0 Status: OK