Package: iPath Version: 1.12.0 Command: /Library/Frameworks/R.framework/Resources/bin/R CMD INSTALL iPath StartedAt: 2025-03-31 16:39:03 -0400 (Mon, 31 Mar 2025) EndedAt: 2025-03-31 16:39:44 -0400 (Mon, 31 Mar 2025) EllapsedTime: 40.8 seconds RetCode: 0 Status: OK