Package: iNETgrate Version: 1.4.0 Command: /home/biocbuild/R/R/bin/R CMD build --keep-empty-dirs --no-resave-data iNETgrate StartedAt: 2025-04-01 00:18:05 -0000 (Tue, 01 Apr 2025) EndedAt: 2025-04-01 00:22:26 -0000 (Tue, 01 Apr 2025) EllapsedTime: 261.1 seconds RetCode: 0 Status: OK PackageFile: iNETgrate_1.4.0.tar.gz PackageFileSize: 3.967 MiB