Package: iNETgrate Version: 1.4.0 Command: /Library/Frameworks/R.framework/Resources/bin/R CMD INSTALL iNETgrate StartedAt: 2025-03-31 16:33:23 -0400 (Mon, 31 Mar 2025) EndedAt: 2025-03-31 16:35:26 -0400 (Mon, 31 Mar 2025) EllapsedTime: 122.7 seconds RetCode: 0 Status: OK